BEGIN:VCALENDAR
VERSION:2.0
PRODID:-//eventon.com NONSGML v1.0//EN
CALSCALE:GREGORIAN
METHOD:PUBLISH
BEGIN:VEVENT
UID:69e716b143d0c
DTSTAMP:20260421T081825
DTSTART:20220320T100000Z
DTEND:20220320T225000Z
TZID:Europe/Vienna
LOCATION:L&#039;Auditori de Barcelona c/. Lepant\,  150
SUMMARY:GASTKONZERTMEISTER OBC BARCELONA
DESCRIPTION: Sergei Prokofiev: L’amour des trois oranges (The Love for Three Oranges)\,  Op. 31bis. Opera suite (1919; rev. 1924) 16′ Dmitri Shostakovich: Symphony No. 1 in F minor\,  Op. 10 (1924-25) 28′ Toru Takemitsu: Visions (1990) 13′ Jordi Cervelló: L’harmonia de les formes (The harmony of forms) (1999) 30′ – World premiere Richard Strauss: Don Quixote. Fantastic Variations[..]\nhttp://birgit-kolar.es/events/gastkonzertmeister-obc-barcelona-4/
URL:http://birgit-kolar.es/events/gastkonzertmeister-obc-barcelona-4/
END:VEVENT
END:VCALENDAR