BEGIN:VCALENDAR
VERSION:2.0
PRODID:-//eventon.com NONSGML v1.0//EN
CALSCALE:GREGORIAN
METHOD:PUBLISH
BEGIN:VEVENT
UID:69e6235bf1420
DTSTAMP:20260420T150011
DTSTART:20210219T180000Z
DTEND:20210219T225000Z
TZID:Europe/Vienna
LOCATION:L&#039;Auditori de Barcelona c/. Lepant\,  150
SUMMARY:GASTKONZERTMEISTER OBC BARCELONA
DESCRIPTION: Béla Bartók: Rhapsody no. 1 for violin and orchestra in G minor (1928) Maurice Ravel: Tzigane for violin and orchestra (1924) Joan Manén: Chanson for violin and orchestra no. 1\,  Op. A-8 (1910) Dmitri Shostakovich: Chamber symphony\,  Op. 73a (arr. by Rudolf Barshai of the string quartet no. 3) (1946)\nhttp://birgit-kolar.es/events/gastkonzertmeister-obc-barcelona-19/
URL:http://birgit-kolar.es/events/gastkonzertmeister-obc-barcelona-19/
END:VEVENT
END:VCALENDAR