BEGIN:VCALENDAR
VERSION:2.0
PRODID:-//eventon.com NONSGML v1.0//EN
CALSCALE:GREGORIAN
METHOD:PUBLISH
BEGIN:VEVENT
UID:69e9a386e785d
DTSTAMP:20260423T064350
DTSTART:20210122T200000Z
DTEND:20210122T225000Z
TZID:Europe/Vienna
LOCATION:Centre Cultural Terrassa Rambla d'Ègara\,  340 - Terrassa
SUMMARY:BRAHMS: DOPPELKONZERT FÜR VIOLINE UND VIOLONCELLO
DESCRIPTION: LA PASTORAL DE BEETHOVEN 22 ENERO 2021 21:00H FICHA ARTÍSTICA Birgit Kolar violí Anne Gastinel violoncel Marzena Diakun directora Orquestra Simfònica del Vallès MÁS INFORMACIÓN JOHANNES BRAHMS Doble concierto para violín y violonchelo LUDWIG VAN BEETHOVEN Sinfonía nº 6\,  “Pastoral” COMPARTE FECHAS DE LA ACTUACIÓN martes 19 ENERO 2021 LA[..]\nhttp://birgit-kolar.es/events/brahms-doppelkonzert-fuer-violine-und-violoncello-3/
URL:http://birgit-kolar.es/events/brahms-doppelkonzert-fuer-violine-und-violoncello-3/
END:VEVENT
END:VCALENDAR