BEGIN:VCALENDAR
VERSION:2.0
PRODID:-//eventon.com NONSGML v1.0//EN
CALSCALE:GREGORIAN
METHOD:PUBLISH
BEGIN:VEVENT
UID:69e57b8bac32f
DTSTAMP:20260420T030411
DTSTART:20141116T103000Z
DTEND:20141116T225000Z
TZID:Europe/Vienna
LOCATION:Auditorio Nacional de Música - Madrid C. del Príncipe de Vergara\,  146 - Madrid
SUMMARY:ORQUESTA NACIONAL DE ESPAÑA
DESCRIPTION: ORQUESTA NACIONAL DE ESPAÑA Krzysztof Urbański director Khatia Buniatishvili piano Krzysztof Penderecki Treno a las víctimas de Hiroshima Franz Liszt Concierto para piano y orquesta núm. 2\,  en la mayor\,  S. 125 Dmitri Shostakovich Sinfonía núm. 10\,  en mi menor\,  opus 93\nhttp://birgit-kolar.es/events/orquesta-nacional-de-espana-4/
URL:http://birgit-kolar.es/events/orquesta-nacional-de-espana-4/
END:VEVENT
END:VCALENDAR